BEGIN:VCALENDAR
VERSION:2.0
PRODID:-//jEvents 2.0 for Joomla//EN
CALSCALE:GREGORIAN
METHOD:PUBLISH
BEGIN:VEVENT
UID:ee601aa0bc7a0a4565da429f68db38e0
CATEGORIES:Appuntamenti
CREATED:20260322T133245
SUMMARY:Quali novità per linee e servizi del trasporto pubblico a Monza
LOCATION:Sala Maddalena\, via Santa Maddalena\, 7 - Monza
DESCRIPTION:Mercoledì 25 marzo alle ore 20:45 in Sala Maddalena è previsto un important
 e incontro pubblico dal titolo “Quali novità per linee e servizi del traspo
 rto pubblico a Monza - Verso l’aggiornamento del piano di bacino”.\nLa sera
 ta sarà introdotta dal Sindaco e dall’Assessora alla Mobilità, Viabilità e 
 Trasporti del Comune di Monza.\nInterverranno:\n\n - Luca Tosi, Direttore d
 ell’Agenzia TPL del bacino della Città Metropolitana di Milano, Monza e Bri
 anza, Lodi e Pavia\n - Paolo Confalonieri, Consigliere del CDA dell’Agenzia
  TPL del bacino della Città Metropolitana di Milano, Monza e Brianza, Lodi 
 e Pavia ,\n - Carlo Maria Nizzola, Dirigente Settore Mobilità del Comune di
  Monza,\n - Nicola Pascale, Direttore tecnico di Monza Mobilità.A cura del 
 Settore Mobilità del Comune.\n
X-ALT-DESC;FMTTYPE=text/html:<p>Mercoledì 25 marzo alle ore 20:45 in Sala Maddalena è previsto un import
 ante&nbsp;incontro pubblico dal titolo “<strong>Quali novità per linee e se
 rvizi del trasporto pubblico a Monza - Verso l’aggiornamento del piano di b
 acino</strong>”.</p><p>La serata sarà introdotta dal <strong>Sindaco</stron
 g> e dall’<strong>Assessora alla Mobilità, Viabilità e Trasporti</strong> d
 el Comune di Monza.</p><p>Interverranno:</p><ul><li><strong>Luca Tosi</stro
 ng>, Direttore dell’Agenzia TPL del bacino della Città Metropolitana di Mil
 ano, Monza e Brianza, Lodi e Pavia</li><li><strong>Paolo Confalonieri</stro
 ng>, Consigliere del CDA dell’Agenzia TPL del bacino della Città Metropolit
 ana di Milano, Monza e Brianza, Lodi e Pavia ,</li><li><strong>Carlo Maria 
 Nizzola</strong>, Dirigente Settore Mobilità del Comune di Monza,</li><li><
 strong>Nicola Pascale</strong>, Direttore tecnico di Monza Mobilità.</li></
 ul><p>A cura del Settore Mobilità del Comune.</p>
DTSTAMP:20260423T162906
DTSTART:20260325T194500
SEQUENCE:0
TRANSP:OPAQUE
END:VEVENT
END:VCALENDAR