BEGIN:VCALENDAR
VERSION:2.0
PRODID:-//jEvents 2.0 for Joomla//EN
CALSCALE:GREGORIAN
METHOD:PUBLISH
BEGIN:VEVENT
UID:c6ffaaa419afcbbab1613cc83904b39c
CATEGORIES:Appuntamenti
CREATED:20260308T151738
SUMMARY:Volantinaggio per le ragioni del NO - Mercato Coldiretti
LOCATION:Via Calatafimi angolo via Romagna - Monza
DESCRIPTION:<p>Giovedì 19 marzo dalle 8 alle 12, volantinaggio per le ragioni del NO al
  mercato Coldiretti. A cura del Circolo 5 PD Monza</p>
DTSTAMP:20260423T162457
DTSTART:20260319T070000
DTEND:20260319T110000
SEQUENCE:0
TRANSP:OPAQUE
END:VEVENT
END:VCALENDAR