BEGIN:VCALENDAR
VERSION:2.0
PRODID:-//jEvents 2.0 for Joomla//EN
CALSCALE:GREGORIAN
METHOD:PUBLISH
BEGIN:VEVENT
UID:75f0d336d27e4e1a61468fc2d1cb0cb4
CATEGORIES:Appuntamenti
CREATED:20260308T151454
SUMMARY:Volantinaggio per le ragioni del NO - Scuola Volta
LOCATION:Scuola Volta - Via Volta\, 27 - Monza
DESCRIPTION:<p>Martedì 10 marzo dalle 16 alle 16:30, volantinaggio per le ragioni del N
 O Alla scuola Volta. A cura del Circolo 6 PD Monza</p>
DTSTAMP:20260423T162609
DTSTART:20260310T150000
DTEND:20260310T153000
SEQUENCE:0
TRANSP:OPAQUE
END:VEVENT
END:VCALENDAR