BEGIN:VCALENDAR
VERSION:2.0
PRODID:-//jEvents 2.0 for Joomla//EN
CALSCALE:GREGORIAN
METHOD:PUBLISH
BEGIN:VEVENT
UID:2f1dd42d4f779a119d02a9a059fb3911
CATEGORIES:Appuntamenti
CREATED:20260308T151025
SUMMARY:Gazebo per le ragioni del NO - Coop di via Marsala
LOCATION:Coop - Via Marsala - Monza
DESCRIPTION:Gazebo a cura del Circolo 4 con distribuzione di materiale informativo sul 
 referendum costituzionale del 22-23 marzo.\n
X-ALT-DESC;FMTTYPE=text/html:<p>Gazebo a cura del Circolo 4 con distribuzione di materiale informativo s
 ul referendum costituzionale del 22-23 marzo.</p>
DTSTAMP:20260423T162907
DTSTART:20260314T080000
DTEND:20260314T150000
SEQUENCE:0
TRANSP:OPAQUE
END:VEVENT
END:VCALENDAR