BEGIN:VCALENDAR
VERSION:2.0
PRODID:-//jEvents 2.0 for Joomla//EN
CALSCALE:GREGORIAN
METHOD:PUBLISH
BEGIN:VEVENT
UID:f43eb46ad789dd55c077dd066945f88f
CATEGORIES:Appuntamenti
CREATED:20260226T000713
SUMMARY:Gazebo: NO alla riforma Nordio
LOCATION:Via S.Gottardo (passerella pedonale)
DESCRIPTION:<p>Gazebo a cura del Circolo 6 Tina Anselmi con distribuzione di materiale 
 informative sul referendum costituzionale del 22-23 marzo.</p>
CONTACT:circolo6@pdmonza.org
X-EXTRAINFO:Al gazebo sarà possibile fare o rinnovare la tessera del PD 2026
DTSTAMP:20260423T162903
DTSTART:20260228T083000
DTEND:20260228T113000
SEQUENCE:0
TRANSP:OPAQUE
END:VEVENT
END:VCALENDAR