BEGIN:VCALENDAR
VERSION:2.0
PRODID:-//jEvents 2.0 for Joomla//EN
CALSCALE:GREGORIAN
METHOD:PUBLISH
BEGIN:VEVENT
UID:4b6950f1db3fdaa0290b72475b4cad4c
CATEGORIES:Appuntamenti
CREATED:20260125T224342
SUMMARY:L'Italia e la sfida della transizione energetica
LOCATION:Social Innovation Academy - Cascina Triulza - Area MIND (Milano Innovation 
 District) - Rho-Fiera
DESCRIPTION:Venerdì 30 gennaio dalle 9:30 alle 17:30, presso la Social Innovation Acade
 my di Rho-Fiera, al via l'importante convegno dal titolo  “Accendere il fut
 uro – L’Italia e la sfida della transizione energetica” promosso dal gruppo
  PD della Camera.La mattinata prevede una prima sessione di confronto, segu
 ita dall'avvio in paralleo di quattro tavoli di lavori dedicati a:sicurezza
  energetica,decarbonizzazione,innovazione tecnologica,costi e opportunità d
 ella transizioneNel pomeriggio sono previste le restituzioni dei tavoli di 
 lavoro e, a seguire, una seconda sessione di dibattito.\nTra i relatori: Fl
 avio Cattaneo (AD Enel),  Renato Mazzoncini (AD Gruppo A2A), Aurelio Regina
  (delegato per Energia e Transizione energetica di Confindustria), Antonell
 o Cammisecra (CEO ContourGlobal), Nicola Monti (AD Edison), Antonello Cammi
 secra (Ceo ContourGlobal), Stefano Ciafani (Presidente Legambiente), Anna M
 aria Barile (DG Utilitalia), Maria Grazia Midulla (Responsabile Clima ed En
 ergia presso WWF ITALIA), Giorgio Boneschi (DG Elettricità Futura), Gianluc
 a Bufo (Ceo IREN), Maria Letizia Magaldi (Vicepres. Magaldi Energy e Presid
 ente Kyoto Club), Antonio Giunta (AD - FS Energy), Paolo Rocco Viscontini (
 Presidente Italia Solare), Le Rapresentanze sindacali di CGIL-CISL-UIL e i 
 rappresentanti di ENI, ANCE,Sorgenia, Legacoop, CNA, ARERA, Confagricoltura
 , CIA, Coldiretti, HERA,ACEA, Feralpi, Confcommercio, Renexia\nQui il progr
 amma completo.
X-ALT-DESC;FMTTYPE=text/html:Venerdì 30 gennaio dalle 9:30 alle 17:30, presso la Social Innovation Acade
 my di Rho-Fiera, al via l'importante convegno dal titolo  “Accendere il fut
 uro – L’Italia e la sfida della transizione energetica” promosso dal gruppo
  PD della Camera.La mattinata prevede una prima sessione di confronto, segu
 ita dall'avvio in paralleo di quattro tavoli di lavori dedicati a:sicurezza
  energetica,decarbonizzazione,innovazione tecnologica,costi e opportunità d
 ella transizioneNel pomeriggio sono previste le restituzioni dei tavoli di 
 lavoro e, a seguire, una seconda sessione di dibattito.<br />Tra i relatori
 : Flavio Cattaneo (AD Enel),  Renato Mazzoncini (AD Gruppo A2A), Aurelio Re
 gina (delegato per Energia e Transizione energetica di Confindustria), Anto
 nello Cammisecra (CEO ContourGlobal), Nicola Monti (AD Edison), Antonello C
 ammisecra (Ceo ContourGlobal), Stefano Ciafani (Presidente Legambiente), An
 na Maria Barile (DG Utilitalia), Maria Grazia Midulla (Responsabile Clima e
 d Energia presso WWF ITALIA), Giorgio Boneschi (DG Elettricità Futura), Gia
 nluca Bufo (Ceo IREN), Maria Letizia Magaldi (Vicepres. Magaldi Energy e Pr
 esidente Kyoto Club), Antonio Giunta (AD - FS Energy), Paolo Rocco Visconti
 ni (Presidente Italia Solare), Le Rapresentanze sindacali di CGIL-CISL-UIL 
 e i rappresentanti di ENI, ANCE,Sorgenia, Legacoop, CNA, ARERA, Confagricol
 tura, CIA, Coldiretti, HERA,ACEA, Feralpi, Confcommercio, Renexia<br />Qui 
 il programma completo.
DTSTAMP:20260423T145358
DTSTART:20260130T083000
DTEND:20260130T163000
SEQUENCE:0
TRANSP:OPAQUE
END:VEVENT
END:VCALENDAR