BEGIN:VCALENDAR
VERSION:2.0
PRODID:-//jEvents 2.0 for Joomla//EN
CALSCALE:GREGORIAN
METHOD:PUBLISH
BEGIN:VEVENT
UID:ede5358367f26349b9cecb71c8d989ae
CATEGORIES:Appuntamenti
CREATED:20260125T201903
SUMMARY:Un'altra storia. L'alternativa al mondo che cambia
LOCATION:Fondazione Feltrinelli - Viale Pasubio\, 5 - Milano
DESCRIPTION:Sabato 31 gennaio e domenica 1 febbraio presso la Fondazione Feltrinelli a 
 Milano, evento dedicato all'ascolto del mondo della cultura, dell'economia 
 e della scienza, a cura della Fondazione Demo e con la presenza della Segre
 taria del Partito Democratico Elly Schlein.
DTSTAMP:20260423T162506
DTSTART:20260201T083000
DTEND:20260201T170000
SEQUENCE:0
TRANSP:OPAQUE
END:VEVENT
END:VCALENDAR