BEGIN:VCALENDAR
VERSION:2.0
PRODID:-//jEvents 2.0 for Joomla//EN
CALSCALE:GREGORIAN
METHOD:PUBLISH
BEGIN:VEVENT
UID:c80fab67dd9fac56a27a16f2aafd40a7
CATEGORIES:Appuntamenti
CREATED:20260125T201830
SUMMARY:Un'altra storia. L'alternativa al mondo che cambia
LOCATION:Fondazione Feltrinelli - Viale Pasubio\, 5 - Milano
DESCRIPTION:Sabato 31 gennaio e domenica 1 febbraio presso la Fondazione Feltrinelli a 
 Milano, evento dedicato all'ascolto del mondo della cultura, dell'economia 
 e della scienza, a cura della Fondazione Demo e con la presenza della Segre
 taria del Partito Democratico Elly Schlein.
DTSTAMP:20260423T145357
DTSTART:20260131T150000
DTEND:20260131T190000
SEQUENCE:0
TRANSP:OPAQUE
END:VEVENT
END:VCALENDAR