BEGIN:VCALENDAR
VERSION:2.0
PRODID:-//jEvents 2.0 for Joomla//EN
CALSCALE:GREGORIAN
METHOD:PUBLISH
BEGIN:VEVENT
UID:4736fbda5e48bac0d756531ef9a38c61
CATEGORIES:Appuntamenti
CREATED:20251214T180834
SUMMARY:Assemblea pubblica su soluzioni progettuali per l'Arengario
LOCATION:Sala Conferenze dei Musei Civici - Via Teodolinda\, 4 - Monza
DESCRIPTION:Martedì 16 dicembre alle ore 21 presso la Sala Conferenze dei Musei Civici,
  si terrà un’assemblea pubblica in cui saranno illustrate le soluzioni prog
 ettuali disponibili per assicurare l’accessibilità dell’Arengario. Sarà un’
 occasione importante per fare il punto sul percorso volto a rendere l’iconi
 co edificio duecentesco fruibile da parte di tutti.\nInterverranno il Sinda
 co Paolo Pilotto, l’Assessore ai Lavori Pubblici Marco Lamperti, l’Architet
 to Stefano Boeri e lo Storico dell’Arte Giovanni Agosti.\nL’iniziativa è a 
 ingresso libero.\n
X-ALT-DESC;FMTTYPE=text/html:<p>Martedì 16 dicembre alle ore 21&nbsp;presso la Sala Conferenze dei&nbsp;
 <strong>Musei Civici</strong>, si terrà un’assemblea pubblica in cui&nbsp;<
 strong>saranno illustrate le</strong>&nbsp;<strong>soluzioni progettuali di
 sponibili</strong>&nbsp;per assicurare l’accessibilità dell’Arengario. Sarà
  un’occasione importante per fare il punto sul percorso volto a rendere l’i
 conico edificio duecentesco fruibile da parte di tutti.</p><p>Interverranno
  il Sindaco<strong>&nbsp;Paolo Pilotto</strong>, l’Assessore ai Lavori Pubb
 lici&nbsp;<strong>Marco Lamperti</strong>, l’Architetto&nbsp;<strong>Stefan
 o Boeri</strong>&nbsp;e lo Storico dell’Arte&nbsp;<strong>Giovanni Agosti</
 strong>.</p><p>L’iniziativa è a&nbsp;<strong>ingresso libero</strong>.</p>
DTSTAMP:20260423T175431
DTSTART:20251216T200000
SEQUENCE:0
TRANSP:OPAQUE
END:VEVENT
END:VCALENDAR