BEGIN:VCALENDAR
VERSION:2.0
PRODID:-//jEvents 2.0 for Joomla//EN
CALSCALE:GREGORIAN
METHOD:PUBLISH
BEGIN:VEVENT
UID:e2f8d6fa74c8364d8d7aad1208a1acfb
CATEGORIES:Appuntamenti
CREATED:20251207T165229
SUMMARY:Raccolta Natalizia di solidarietà del Circolo 2
LOCATION:Circolo 2 PD Monza - Via Pompeo Mariani 6 - Monza
DESCRIPTION:Il giorno 21 dicembre dalle 10 alle 12 presso la sede del circolo 2 in via 
 Pompeo Mariani 6 raccoglieremo alimenti da donare alla S.Vincenzo.\nRaccogl
 ieremo i seguenti prodotti:\nConserve e scatolame\n\n - Tonno, sgombro, sal
 mone in scatolaFagioli, ceci, lenticchie, piselli in barattoloPassata di po
 modoro, pomodori pelatiMais dolce, piselli, verdure in conservaProdotti sec
 chi\n\n - Pasta, riso, cous cous, polentaFarina, semolaLegumi secchi (ceci,
  fagioli, lenticchie)Zuppe e minestre disidratateDolci e colazione\n\n - Bi
 scotti confezionati, fette biscottateCereali per la colazionePanettoni e pa
 ndori a lunga conservazioneMarmellata, miele, crema di noccioleProdotti per
  bambini\n\n - Omogeneizzati in vasettoLatte in polvere per neonatiPappe e 
 pastine per l’infanziaProdotti a lunga conservazione\n\n - Olio di oliva o 
 di semiLatte UHTZucchero, saleCaffè, tè, tisane\n \n
X-ALT-DESC;FMTTYPE=text/html:<p><strong>Il giorno 21 dicembre dalle 10 alle 12 presso la sede del circol
 o 2 in via Pompeo Mariani 6</strong>&nbsp;raccoglieremo alimenti da donare 
 alla S.Vincenzo.</p><p>Raccoglieremo i seguenti prodotti:</p><p><span style
 ="text-decoration: underline;">Conserve e scatolame</span></p><ul><li>Tonno
 , sgombro, salmone in scatola</li><li data-start="213" data-end="264">Fagio
 li, ceci, lenticchie, piselli in barattolo</li><li data-start="265" data-en
 d="305">Passata di pomodoro, pomodori pelati</li><li data-start="306" data-
 end="348">Mais dolce, piselli, verdure in conserva</li></ul><p><span style=
 "text-decoration: underline;">Prodotti secchi</span></p><ul><li>Pasta, riso
 , cous cous, polenta</li><li data-start="409" data-end="427">Farina, semola
 </li><li data-start="428" data-end="473">Legumi secchi (ceci, fagioli, lent
 icchie)</li><li data-start="474" data-end="504">Zuppe e minestre disidratat
 e</li></ul><p><span style="text-decoration: underline;">Dolci e colazione</
 span></p><ul><li>Biscotti confezionati, fette biscottate</li><li data-start
 ="575" data-end="603">Cereali per la colazione</li><li data-start="604" dat
 a-end="649">Panettoni e pandori a lunga conservazione</li><li data-start="6
 50" data-end="688">Marmellata, miele, crema di nocciole</li></ul><p><span s
 tyle="text-decoration: underline;">Prodotti per bambini</span></p><ul><li>O
 mogeneizzati in vasetto</li><li data-start="747" data-end="779">Latte in po
 lvere per neonati</li><li data-start="780" data-end="812">Pappe e pastine p
 er l’infanzia</li></ul><p><span style="text-decoration: underline;">Prodott
 i a lunga conservazione</span></p><ul><li>Olio di oliva o di semi</li><li d
 ata-start="880" data-end="893">Latte UHT</li><li data-start="894" data-end=
 "912">Zucchero, sale</li><li data-start="913" data-end="932">Caffè, tè, tis
 ane</li></ul><p><br />&nbsp;</p>
CONTACT:circolo2@pdmonza.org
DTSTAMP:20260423T175435
DTSTART:20251221T090000
DTEND:20251221T110000
SEQUENCE:0
TRANSP:OPAQUE
END:VEVENT
END:VCALENDAR