BEGIN:VCALENDAR
VERSION:2.0
PRODID:-//jEvents 2.0 for Joomla//EN
CALSCALE:GREGORIAN
METHOD:PUBLISH
BEGIN:VEVENT
UID:002899467460df24a87c1a69bf4a56b9
CATEGORIES:Appuntamenti
CREATED:20251130T182730
SUMMARY:Assemblea Cittadina del PD Monza
LOCATION:via Arosio\, 6 - Monza
DESCRIPTION:<p>Martedì 16 dicembre alle ore 21 presso la sede di via Arosio, è convocat
 a l'Assemblea Cittadina del Partito Democratico di Monza, aperta a tutti gl
 i iscritti, con il seguente o.d.g.:&nbsp;</p><ol><li>Surroga dei componenti
  dell’Assemblea dimissionari;</li><li>Comunicazioni del Segretario;</li><li
 >Aggiornamento in merito alle iniziative in corso;</li><li>Illustrazione de
 lle prossime iniziative in programma;</li><li>Varie ed eventuali.</li></ol>
 <p>&nbsp;</p>
DTSTAMP:20260423T175444
DTSTART:20251216T173000
SEQUENCE:0
TRANSP:OPAQUE
END:VEVENT
END:VCALENDAR