BEGIN:VCALENDAR
VERSION:2.0
PRODID:-//jEvents 2.0 for Joomla//EN
CALSCALE:GREGORIAN
METHOD:PUBLISH
BEGIN:VEVENT
UID:b93b8f1e927dc1c1fe3e8448885a2d55
CATEGORIES:Appuntamenti
CREATED:20251122T215409
SUMMARY:Il respiro verde della città
LOCATION:Via Molise - Monza
DESCRIPTION:Sabato 29 novembre dalle ore 10, al via la depavimentazione di via Molise, 
 prima area del progetto Il respiro verde della città. In particolare in que
 sta occasione verranno rimossi circa 200 metri quadrati di asfalto e realiz
 zate nuove aree verdi e piantumate, restituendo permeabilità al suolo, migl
 iorando il microclima e favorendo la biodiversità urbana.\nIntervento, real
 izzato grazie alla collaborazione tra il Comune di Monza e Legambiente in o
 ttica partecipata, per restituire respiro alla natura e ai cittadini, contr
 ibuendo a mitigare gli effetti dei cambiamenti climatici e a rendere la cit
 tà più vivibile. \n \n
X-ALT-DESC;FMTTYPE=text/html:<p>Sabato 29 novembre dalle ore 10, al via la depavimentazione di via Molis
 e, prima area del progetto <em>Il respiro verde della città</em>.&nbsp;In p
 articolare in questa occasione verranno rimossi circa 200 metri quadrati di
  asfalto e realizzate nuove aree verdi e piantumate, restituendo permeabili
 tà al suolo, migliorando il microclima e favorendo la biodiversità urbana.<
 /p><p>Intervento, realizzato grazie alla collaborazione tra il Comune di Mo
 nza e Legambiente in ottica partecipata, per restituire respiro alla natura
  e ai cittadini, contribuendo a mitigare gli effetti dei cambiamenti climat
 ici e a rendere la città più vivibile.&nbsp;</p><p>&nbsp;</p>
DTSTAMP:20260423T192525
DTSTART:20251129T090000
DTEND:20251129T150000
SEQUENCE:0
TRANSP:OPAQUE
END:VEVENT
END:VCALENDAR