BEGIN:VCALENDAR
VERSION:2.0
PRODID:-//jEvents 2.0 for Joomla//EN
CALSCALE:GREGORIAN
METHOD:PUBLISH
BEGIN:VEVENT
UID:c6be05e721e7ef049e826e6647883b96
CATEGORIES:Appuntamenti
CREATED:20250306T201131
SUMMARY:Incontro Rete Brianza Accogliente e Solidale
LOCATION:Sala Bruno Trentin\, Camera del Lavoro\, Via Premuda\, 17 - Monza
DESCRIPTION:<p>Il 26 marzo alle ore 21 presso la Sala Bruno Trentin della Camera del La
 voro di Monza, la rete Brianza Accogliente e Solidale si riunisce con il se
 guente ordine del giorno:</p><ul><li>Riflessione sul ruolo della Rete BAS n
 el nuovo contesto</li><li>Referendum Cittadinanza</li><li>Iniziative Giorna
 ta del Rifugiato (Giugno 2025)</li><li>Presenza della rete sul territorio</
 li></ul><p>Sono invitate tutte le associazioni, i volontari, i cittadini at
 tivi e chiunque aderisca al manifesto iniziale di Rete B.A.S.</p><p>&nbsp;<
 /p>
DTSTAMP:20260423T162610
DTSTART:20250326T200000
SEQUENCE:0
TRANSP:OPAQUE
END:VEVENT
END:VCALENDAR