BEGIN:VCALENDAR
VERSION:2.0
PRODID:-//jEvents 2.0 for Joomla//EN
CALSCALE:GREGORIAN
METHOD:PUBLISH
BEGIN:VEVENT
UID:69bc6c8e44ae4501460ccdaf18d8a1d8
CATEGORIES:Appuntamenti
CREATED:20240502T211901
SUMMARY:Banchetto del Circolo 5 PD Monza nel quartiere San Fruttuoso
LOCATION:Via Po angolo Via Tazzoli - Monza
DESCRIPTION:Il Circolo 5 PD Monza sarà presente Mercoledì 8 maggio dalle ore 9 alle ore
  13 nel quartiere San Fruttuoso, via Po angolo via Tazzoli,  per diffondere
  materiale e informazioni sulle prossime elezioni europee. \nSarà anche pos
 sibile firmare la proposta di legge di iniziativa popolare sulla Sanità pre
 parata dal nostro Gruppo dem in Regione Lombardia.\n
X-ALT-DESC;FMTTYPE=text/html:<p>Il Circolo 5 PD Monza sarà presente Mercoledì 8 maggio dalle ore 9 alle 
 ore 13 nel quartiere San Fruttuoso, via Po angolo via Tazzoli,&nbsp;&nbsp;p
 er diffondere materiale e informazioni sulle prossime<strong>&nbsp;elezioni
  europee</strong>.&nbsp;</p><p>Sarà anche possibile&nbsp;<strong>firmare la
  proposta di legge di iniziativa popolare sulla Sanità&nbsp;</strong>prepar
 ata dal nostro Gruppo dem in Regione Lombardia.</p>
DTSTAMP:20260423T200254
DTSTART:20240508T070000
DTEND:20240508T110000
SEQUENCE:0
TRANSP:OPAQUE
END:VEVENT
END:VCALENDAR