BEGIN:VCALENDAR
VERSION:2.0
PRODID:-//jEvents 2.0 for Joomla//EN
CALSCALE:GREGORIAN
METHOD:PUBLISH
BEGIN:VEVENT
UID:5c5fa5dfe183530da5913c4339a497c9
CATEGORIES:Appuntamenti
CREATED:20240430T183314
SUMMARY:Gazebo PD Monza in Centro a Monza
LOCATION:Via Italia angolo Piermarini - Monza
DESCRIPTION:<p>Il PD Monza sarà presente domenica 5 maggio dalle ore 9 alle ore 18 in c
 entro a Monza via Italia / Piermarini,&nbsp; per diffondere materiale e inf
 ormazioni sulle prossime<strong>&nbsp;elezioni europee</strong>.&nbsp;</p><
 p>Sarà anche possibile&nbsp;<strong>firmare la proposta di legge di iniziat
 iva popolare sulla Sanità&nbsp;</strong>preparata dal nostro Gruppo dem in 
 Regione Lombardia.</p>
DTSTAMP:20260423T200712
DTSTART:20240505T070000
DTEND:20240505T160000
SEQUENCE:0
TRANSP:OPAQUE
END:VEVENT
END:VCALENDAR