BEGIN:VCALENDAR
VERSION:2.0
PRODID:-//jEvents 2.0 for Joomla//EN
CALSCALE:GREGORIAN
METHOD:PUBLISH
BEGIN:VEVENT
UID:58aa06e75923fce35ffe335106cc6477
CATEGORIES:Appuntamenti
CREATED:20240430T183110
SUMMARY:Gazebo PD Monza in Piazza Cambiaghi
LOCATION:Piazza Cambiaghi / Spalto Maddalena - Ponte Colombo - Monza
DESCRIPTION:<p>Il PD Monza sarà presente Giovedì 2 maggio dalle ore 9 alle ore 13 in Pi
 azza Cambiaghi / Spalto Maddalena - Ponte Colombo,&nbsp;&nbsp;per diffonder
 e materiale e informazioni sulle prossime<strong>&nbsp;elezioni europee</st
 rong>.&nbsp;</p><p>Sarà anche possibile&nbsp;<strong>firmare la proposta di
  legge di iniziativa popolare sulla Sanità&nbsp;</strong>preparata dal nost
 ro Gruppo dem in Regione Lombardia.</p>
DTSTAMP:20260423T200608
DTSTART:20240502T070000
DTEND:20240502T110000
SEQUENCE:0
TRANSP:OPAQUE
END:VEVENT
END:VCALENDAR