BEGIN:VCALENDAR
VERSION:2.0
PRODID:-//jEvents 2.0 for Joomla//EN
CALSCALE:GREGORIAN
METHOD:PUBLISH
BEGIN:VEVENT
UID:24c9a182077ac3c5fee57aefbfd5c658
CATEGORIES:Appuntamenti
CREATED:20240428T095807
SUMMARY:Volantinaggio in via San Gottardo - Monza
LOCATION:Via San Gottardo / Passerella - Monza
DESCRIPTION:Il Circolo 6 PD Monza sarà presente domenica 5 maggio dalle ore 10 alle 12,
 30 in via San Gottardo / Passerella - Monza, per diffondere materiale e inf
 ormazioni sulle prossime elezioni europee. \n
X-ALT-DESC;FMTTYPE=text/html:<p>Il Circolo 6 PD Monza sarà presente domenica 5 maggio dalle ore 10 alle 
 12,30 in via San Gottardo / Passerella - Monza, per diffondere materiale e 
 informazioni sulle prossime<strong> elezioni europee</strong>.&nbsp;</p>
DTSTAMP:20260423T200429
DTSTART:20240505T080000
DTEND:20240505T103000
SEQUENCE:0
TRANSP:OPAQUE
END:VEVENT
END:VCALENDAR