BEGIN:VCALENDAR
VERSION:2.0
PRODID:-//jEvents 2.0 for Joomla//EN
CALSCALE:GREGORIAN
METHOD:PUBLISH
BEGIN:VEVENT
UID:9ff4c7247d3d795bfdd3d37530ed83f5
CATEGORIES:Appuntamenti
CREATED:20240428T095601
SUMMARY:Volantinaggio in zona Ospedale San Gerardo - Monza
LOCATION:Via Pergolesi\, 80 - Monza
DESCRIPTION:<p>Il Circolo 6 PD Monza sarà presente sabato 4 maggio dalle ore 16 alle 18
  in zona Ospedale San Gerardo, via Pergolesi 80, per diffondere materiale e
  informazioni sulle prossime<strong> elezioni europee</strong>.&nbsp;</p>
DTSTAMP:20260423T200611
DTSTART:20240504T140000
DTEND:20240504T160000
SEQUENCE:0
TRANSP:OPAQUE
END:VEVENT
END:VCALENDAR