BEGIN:VCALENDAR
VERSION:2.0
PRODID:-//jEvents 2.0 for Joomla//EN
CALSCALE:GREGORIAN
METHOD:PUBLISH
BEGIN:VEVENT
UID:b4ed521af55d1428042bd2254164e1dd
CATEGORIES:Appuntamenti
CREATED:20240421T212348
SUMMARY:R-Esistere Non Desistere
LOCATION:Spazio Rosmini - Via Rosmini 72 - Monza
DESCRIPTION:Giovedì 25 aprile alle ore 20,30 presso lo spazio Rosmini in via Rosmini 72
 , testimonianze e musica dal vivo per celebrare l'Anniversario della Libera
 zione.\n
X-ALT-DESC;FMTTYPE=text/html:<p>Giovedì 25 aprile alle ore 20,30 presso lo spazio Rosmini in via Rosmini
  72, testimonianze e musica dal vivo per celebrare l'Anniversario della Lib
 erazione.</p>
DTSTAMP:20260423T200435
DTSTART:20240425T183000
SEQUENCE:0
TRANSP:OPAQUE
END:VEVENT
END:VCALENDAR