BEGIN:VCALENDAR
VERSION:2.0
PRODID:-//jEvents 2.0 for Joomla//EN
CALSCALE:GREGORIAN
METHOD:PUBLISH
BEGIN:VEVENT
UID:3e0a3f229092b4c250559ba1fd2e27b9
CATEGORIES:Appuntamenti
CREATED:20230514T203437
SUMMARY:Un altro domani
DESCRIPTION:Giovedì 18 maggio alle ore 21 presso il Capitol Anteo SpazioCinema, proiezi
 one del docufilm \nUn altro domani - Indagine sulla violenza nelle relazion
 i affettive\nLa proiezione sarà introdotta da una tavola rotonda con:\n\n -
  gli autori del film Silvio Soldini e Cristiana Mainardi\n - Egidio Riva, A
 ssessore Welfare e Salute\n - Andreina Fumagalli, Assessore Pari Opportunit
 à\n - Simona Vergani, Coordinatrice Rete Artemide\n - Marilena Arena, Presi
 dente C.A.DO.M.Modera la giornalista Federica Fenaroli.\n
X-ALT-DESC;FMTTYPE=text/html:<p>Giovedì 18 maggio alle ore 21 presso il Capitol Anteo SpazioCinema, proi
 ezione del docufilm&nbsp;</p><p><strong>Un altro domani -&nbsp;</strong><st
 rong>Indagine sulla violenza nelle relazioni affettive</strong></p><p>La pr
 oiezione sarà introdotta da una tavola rotonda con:</p><ul><li>gli autori d
 el film <strong>Silvio Soldini</strong> e <strong>Cristiana Mainardi</stron
 g></li><li><strong>Egidio Riva</strong>, Assessore Welfare e Salute</li><li
 ><strong>Andreina Fumagalli</strong>, Assessore Pari Opportunità</li><li><s
 trong>Simona Vergani</strong>, Coordinatrice Rete Artemide</li><li><strong>
 Marilena Arena</strong>, Presidente C.A.DO.M.</li></ul><p>Modera la giornal
 ista <strong>Federica Fenaroli</strong>.</p>
DTSTAMP:20260423T153627
DTSTART:20230518T190000
SEQUENCE:0
TRANSP:OPAQUE
END:VEVENT
END:VCALENDAR