BEGIN:VCALENDAR
VERSION:2.0
PRODID:-//jEvents 2.0 for Joomla//EN
CALSCALE:GREGORIAN
METHOD:PUBLISH
BEGIN:VEVENT
UID:9941ba7b8d5a4775b65d859071eef677
CATEGORIES:Appuntamenti
CREATED:20240128T150241
SUMMARY:Il Sindaco incontra la città - San Rocco
LOCATION:Quartiere San Rocco
DESCRIPTION:Inizia la serie di incontri del Sindaco Paolo Pilotto con la città. La prim
 a giornata è dedicata al quartiere San Rocco. \nLa giornata, ricca di incon
 tri, si articolerà nel seguente modo:\nore 9.30-10.15 Incontro al Mercato o
 re 10.30-11.15 Incontro con il parroco sui temi povertà, disagio sociale ne
 l quartiereore 11.15-11.45 Centro Civico e Auserore 12.00-12.30 Scuola Pert
 iniore 16.00-17.00 Case Alertore 17.15-17.45 Farmacia Casignolo\nLa giornat
 a si concluderà alle ore 21.00 presso il Centro Civico San Rocco per un inc
 ontro aperto alla cittadinanza, ai comitati di quartiere, ai rappresentanti
  della consulta.\n
X-ALT-DESC;FMTTYPE=text/html:Inizia la serie di incontri del Sindaco Paolo Pilotto con la città. La prim
 a giornata è dedicata al quartiere San Rocco. <br />La giornata, ricca di i
 ncontri, si articolerà nel seguente modo:<br />ore 9.30-10.15 Incontro al M
 ercato ore 10.30-11.15 Incontro con il parroco sui temi povertà, disagio so
 ciale nel quartiereore 11.15-11.45 Centro Civico e Auserore 12.00-12.30 Scu
 ola Pertiniore 16.00-17.00 Case Alertore 17.15-17.45 Farmacia Casignolo<br 
 />La giornata si concluderà alle ore 21.00 presso il Centro Civico San Rocc
 o per un incontro aperto alla cittadinanza, ai comitati di quartiere, ai ra
 ppresentanti della consulta.<br />
DTSTAMP:20260423T200429
DTSTART:20240206T083000
SEQUENCE:0
TRANSP:OPAQUE
END:VEVENT
END:VCALENDAR